BEGIN:VCALENDAR
VERSION:2.0
PRODID:-//La Cohue Rennes Maurepas - ECPv5.2.1//NONSGML v1.0//EN
CALSCALE:GREGORIAN
METHOD:PUBLISH
X-WR-CALNAME:La Cohue Rennes Maurepas
X-ORIGINAL-URL:https://www.la-cohue.fr
X-WR-CALDESC:évènements pour La Cohue Rennes Maurepas
BEGIN:VTIMEZONE
TZID:Europe/Paris
BEGIN:DAYLIGHT
TZOFFSETFROM:+0100
TZOFFSETTO:+0200
TZNAME:CEST
DTSTART:20190331T010000
END:DAYLIGHT
BEGIN:STANDARD
TZOFFSETFROM:+0200
TZOFFSETTO:+0100
TZNAME:CET
DTSTART:20191027T010000
END:STANDARD
END:VTIMEZONE
BEGIN:VEVENT
DTSTART;TZID=Europe/Paris:20191218T160000
DTEND;TZID=Europe/Paris:20191218T183000
DTSTAMP:20260421T105358
CREATED:20191210T132012Z
LAST-MODIFIED:20200114T132301Z
UID:4104-1576684800-1576693800@www.la-cohue.fr
SUMMARY:La fête de l’hiver
DESCRIPTION:Rendez-vous le 18 décembre pour « la fête de l’hiver » par l’association Vert le jardin
URL:https://www.la-cohue.fr/evenements/la-fete-de-lhiver/
LOCATION:La cohue\, 200 Av. Général George S. Patton\, Rennes\, 35000\, France
ATTACH;FMTTYPE=image/jpeg:https://www.la-cohue.fr/wp-content/uploads/2019/12/naitian-tony-wang-Mb7oWIDHdnE-unsplash-scaled-e1578476289941.jpg
END:VEVENT
END:VCALENDAR